BEGIN:VCALENDAR
PRODID: -//CFLIB.ORG//iCalUS()//EN
VERSION:2.0
BEGIN:VTIMEZONE
TZID:Eastern Time
BEGIN:STANDARD
DTSTART:20061101T020000
RRULE:FREQ=YEARLY;INTERVAL=1;BYDAY=1SU;BYMONTH=11
TZOFFSETFROM:-0400
TZOFFSETTO:-0500
TZNAME:Standard Time
END:STANDARD
BEGIN:DAYLIGHT
DTSTART:20060301T020000
RRULE:FREQ=YEARLY;INTERVAL=1;BYDAY=2SU;BYMONTH=3
TZOFFSETFROM:-0500
TZOFFSETTO:-0400
TZNAME:Daylight Savings Time
END:DAYLIGHT
END:VTIMEZONE
BEGIN:VEVENT
UID:1619967959730.senate.gov
DTSTAMP:20210502T110559
DTSTART;TZID=Eastern Time:20210421T100000
DTEND;TZID=Eastern Time:20210421T120000
SUMMARY:Improving Access and Inclusivity in the Patent System: Unleashing America’s Economic Engine
LOCATION:Dirksen Senate Office Building
URL:https://www.judiciary.senate.gov/meetings/improving-access-and-inclusivity-in-the-patent-system-unleashing-americas-economic-engine
PRIORITY:1
TRANSP:OPAQUE
CLASS:PUBLIC
BEGIN:VALARM
TRIGGER:-PT30M
ACTION:DISPLAY
DESCRIPTION:Reminder
END:VALARM
END:VEVENT
END:VCALENDAR