BEGIN:VCALENDAR
PRODID: -//CFLIB.ORG//iCalUS()//EN
VERSION:2.0
BEGIN:VTIMEZONE
TZID:Eastern Time
BEGIN:STANDARD
DTSTART:20061101T020000
RRULE:FREQ=YEARLY;INTERVAL=1;BYDAY=1SU;BYMONTH=11
TZOFFSETFROM:-0400
TZOFFSETTO:-0500
TZNAME:Standard Time
END:STANDARD
BEGIN:DAYLIGHT
DTSTART:20060301T020000
RRULE:FREQ=YEARLY;INTERVAL=1;BYDAY=2SU;BYMONTH=3
TZOFFSETFROM:-0500
TZOFFSETTO:-0400
TZNAME:Daylight Savings Time
END:DAYLIGHT
END:VTIMEZONE
BEGIN:VEVENT
UID:1619967950425.senate.gov
DTSTAMP:20210502T110550
DTSTART;TZID=Eastern Time:20210427T100000
DTEND;TZID=Eastern Time:20210427T211600
SUMMARY:Algorithms and Amplification: How Social Media Platforms’ Design Choices Shape Our Discourse and Our Minds
LOCATION:Dirksen Senate Office Building
URL:https://www.judiciary.senate.gov/meetings/algorithms-and-amplification-how-social-media-platforms-design-choices-shape-our-discourse-and-our-minds
PRIORITY:1
TRANSP:OPAQUE
CLASS:PUBLIC
BEGIN:VALARM
TRIGGER:-PT30M
ACTION:DISPLAY
DESCRIPTION:Reminder
END:VALARM
END:VEVENT
END:VCALENDAR